BEGIN:VCALENDAR
VERSION:2.0
PRODID:-//Psiholog Catalina Vlad - ECPv5.12.1//NONSGML v1.0//EN
CALSCALE:GREGORIAN
METHOD:PUBLISH
X-WR-CALNAME:Psiholog Catalina Vlad
X-ORIGINAL-URL:https://psihologcatalinavlad.ro
X-WR-CALDESC:Events for Psiholog Catalina Vlad
REFRESH-INTERVAL;VALUE=DURATION:PT1H
X-Robots-Tag:noindex
X-PUBLISHED-TTL:PT1H
BEGIN:VTIMEZONE
TZID:UTC
BEGIN:STANDARD
TZOFFSETFROM:+0000
TZOFFSETTO:+0000
TZNAME:UTC
DTSTART:20210101T000000
END:STANDARD
END:VTIMEZONE
BEGIN:VEVENT
DTSTART;TZID=UTC:20210515T170000
DTEND;TZID=UTC:20210515T200000
DTSTAMP:20260426T043026
CREATED:20210515T170000Z
LAST-MODIFIED:20220902T092407Z
UID:916-1621098000-1621108800@psihologcatalinavlad.ro
SUMMARY:Webinar Cum facem terapie online cu copiii și adolescenții
DESCRIPTION:Daca ești psihoterapeut\, terapeut de familie sau logoped și lucrezi cu copii și adolescenți\, probabil te-ai gândit să îți muți practica online. \nTe preocupă modul în care îți poți adapta intervențiile în online? \nAi nevoie să afli cum lucrează alții online cu copii și adolescenți sau doar să adaugi la abordarea ta noi perspective? \nTe întrebi cum să menții atenția copiilor mai mici în online? \nTe întrebi cum poți să susții familiile cu care lucrezi\, în această situație de criză? \nTe întrebi cum să menții relația terapeutică cu clienții tăi mai mici sau mai mari? \nCauți idei de tehnici terapeutice potrivite pentru aceste categorii de vârstă? \nDacă ți-ai adresat una sau mai multe din întrebările de mai sus\, echipa Centrului RISE te invită să participi la un Webinar-ul cu tema: „Cum facem terapie online cu copiii si adolescenții? ” \nTematici abordate in cadrul webinarului\n\nAspecte generale despre terapia online\nPregătirea părintelui pentru terapia online a copilului/adolescentului/familiei\nSpecificități ale intervenției online cu copiii 3-10 ani\nTerapia de familie online\nSpecificități ale intervenției online cu adolescenții 11-18/19 ani\nIntervenția logopedică cu copiii\nÎntrebări si răspunsuri\n\n*  În cadrul evenimentului vom discuta preponderent despre abordarea psihoterapeutică și logopedică.  \nStructura webinarului \nCând? Pe 15 Mai 2020\, la ora 17.00 \nCât timp durează? 3 ore \nUnde? pe platforma Zoom (datele de acces vor fi transmise după înscriere) \nCare este costul? \nEarly Bird până în 10 Mai: 50 lei/persoană \nDupă 10 Mai: 70 lei/persoană \n(Am pus un cost redus pentru a ne adapta la dificultatile financiare specifice acestei perioade de criza) \nNumăr de participanți: 30\, pentru a păstra eficiența interacțiunii online. (Am suplimentat numarul de locuri\, datorita cererii ridicate de participare). \nWebinarul are o structură practică și multe exemple concrete. \nMaterialele sunt incluse în preţ. \nEchipa de formatori\nEchipa Centrului RISE este formată din psihologi cu formări naționale și internaționale în psihologie clinică\, psihoterapia copilului și adolescentului\, psihoterapia familiei\, supervizare\, intervenții psiho-educaționale și logopedie. \nMai multe informații despre echipa de specialiști a Centrului RISE poți afla aici: Echipa RISE.
URL:https://psihologcatalinavlad.ro/event/webinar-cum-facem-terapie-online-cu-copiii-si-adolescentii/
CATEGORIES:Evenimente
ATTACH;FMTTYPE=image/png:https://psihologcatalinavlad.ro/wp-content/uploads/2021/08/Webinar-cum-fac-terpaie-online-cu-copii-si-adolescenti.png
END:VEVENT
END:VCALENDAR